BEGIN:VCALENDAR
VERSION:2.0
PRODID:-//pretix//pretix.eu//
BEGIN:VTIMEZONE
TZID:Europe/Berlin
BEGIN:STANDARD
DTSTART:20001029T040000
RRULE:FREQ=YEARLY;BYDAY=-1SU;BYMONTH=10
TZNAME:CET
TZOFFSETFROM:+0200
TZOFFSETTO:+0100
END:STANDARD
BEGIN:DAYLIGHT
DTSTART:20000326T030000
RRULE:FREQ=YEARLY;BYDAY=-1SU;BYMONTH=3
TZNAME:CEST
TZOFFSETFROM:+0100
TZOFFSETTO:+0200
END:DAYLIGHT
END:VTIMEZONE
BEGIN:VEVENT
UID:pretix-g-bw-tdot2025-4678606@buchung.g-bw.de
DTSTART;TZID=Europe/Berlin:20251129T080000
DTEND;TZID=Europe/Berlin:20251129T090000
DESCRIPTION:Tickets: https://buchung.g-bw.de/tdot2025/4678606/\nVeranstalte
 r: Gymnasium der Stadt Baesweiler
DTSTAMP:20260419T222217Z
LOCATION:Gymnasium der Stadt Baesweiler\, Otto-Hahn-Straße 16-18\, 52499 B
 aesweiler
SUMMARY:Tag der offenen Tür 2025 - Gruppe A11
END:VEVENT
END:VCALENDAR
