BEGIN:VCALENDAR
VERSION:2.0
PRODID:-//pretix//pretix.eu//
BEGIN:VTIMEZONE
TZID:Europe/Berlin
BEGIN:STANDARD
DTSTART:20001029T040000
RRULE:FREQ=YEARLY;BYDAY=-1SU;BYMONTH=10
TZNAME:CET
TZOFFSETFROM:+0200
TZOFFSETTO:+0100
END:STANDARD
BEGIN:DAYLIGHT
DTSTART:20000326T030000
RRULE:FREQ=YEARLY;BYDAY=-1SU;BYMONTH=3
TZNAME:CEST
TZOFFSETFROM:+0100
TZOFFSETTO:+0200
END:DAYLIGHT
END:VTIMEZONE
BEGIN:VEVENT
UID:pretix-g-bw-musical26-4858830@buchung.g-bw.de
DTSTART;TZID=Europe/Berlin:20260326T183000
DTEND;TZID=Europe/Berlin:20260326T193000
DESCRIPTION:Tickets: https://buchung.g-bw.de/musical26/4858830/\nEinlass: 2
 6.03.2026 18:00\nVeranstalter: Gymnasium der Stadt Baesweiler
DTSTAMP:20260421T095727Z
LOCATION:Gymnasium der Stadt Baesweiler\, Otto-Hahn-Straße 16-18\, 52499 B
 aesweiler
SUMMARY:Schulmusical "Das letzte Grün"
END:VEVENT
END:VCALENDAR
