BEGIN:VCALENDAR
VERSION:2.0
PRODID:-//pretix//pretix.eu//
BEGIN:VTIMEZONE
TZID:Europe/Berlin
BEGIN:STANDARD
DTSTART:20001029T040000
RRULE:FREQ=YEARLY;BYDAY=-1SU;BYMONTH=10
TZNAME:CET
TZOFFSETFROM:+0200
TZOFFSETTO:+0100
END:STANDARD
BEGIN:DAYLIGHT
DTSTART:20000326T030000
RRULE:FREQ=YEARLY;BYDAY=-1SU;BYMONTH=3
TZNAME:CEST
TZOFFSETFROM:+0100
TZOFFSETTO:+0200
END:DAYLIGHT
END:VTIMEZONE
BEGIN:VEVENT
UID:pretix-g-bw-musical-4325554@buchung.g-bw.de
DTSTART;TZID=Europe/Berlin:20250205T190000
DTEND;TZID=Europe/Berlin:20250205T200000
DESCRIPTION:Tickets: https://buchung.g-bw.de/musical/4325554/\nEinlass: 05.
 02.2025 18:30\nVeranstalter: Gymnasium der Stadt Baesweiler
DTSTAMP:20260420T121341Z
LOCATION:PZ des Gymnasiums Baesweiler\, Otto-Hahn-Straße 16-18\, 52499 Bae
 sweiler
SUMMARY:Schulmusical "Spinning Gold - Rumpelstilzchen Reloaded"
END:VEVENT
END:VCALENDAR
